BEGIN:VCALENDAR
VERSION:2.0
PRODID:-//Tukios.com/
BEGIN:VEVENT
UID:3d8987eb-1a87-4ce2-ba12-dee5ca6ff8d1@www.mengfuneralhome.com
DTSTAMP:20260422T004416Z
DTSTART:20260428T140000Z
DTEND:20260428T170000Z
SUMMARY:Visitation
DESCRIPTION:
URL:https://www.mengfuneralhome.com/obituaries/beverly-spoonmore
LOCATION:Meng Family Funeral Home 616 E. Elnora St.  Odon IN 47562
GEO:38.8454752;-86.9784498
END:VEVENT
END:VCALENDAR