BEGIN:VCALENDAR
VERSION:2.0
PRODID:-//Tukios.com/
BEGIN:VEVENT
UID:6f77f4cb-2588-48a5-bae0-cba00e743c8f@www.mengfuneralhome.com
DTSTAMP:20260422T004958Z
DTSTART:20260428T170000Z
DTEND:20260428T180000Z
SUMMARY:Funeral Service
DESCRIPTION:
URL:https://www.mengfuneralhome.com/obituaries/beverly-spoonmore
LOCATION:Meng Family Funeral Home 616 E. Elnora St.  Odon IN 47562
GEO:38.8454752;-86.9784498
END:VEVENT
END:VCALENDAR