BEGIN:VCALENDAR
VERSION:2.0
PRODID:-//Tukios.com/
BEGIN:VEVENT
UID:ae1bae4a-ce96-4209-9131-4a2003150c8c@www.mengfuneralhome.com
DTSTAMP:20260421T181933Z
DTSTART:20260426T200000Z
DTEND:20260427T000000Z
SUMMARY:Visitation
DESCRIPTION:
URL:https://www.mengfuneralhome.com/obituaries/kelly-wadsworth
LOCATION:Plainville Christian Church 254 Williams Street  Plainville IN 
	47568
GEO:38.805077;-87.151379
END:VEVENT
END:VCALENDAR