BEGIN:VCALENDAR
VERSION:2.0
PRODID:-//Tukios.com/
BEGIN:VEVENT
UID:ef786e00-e7ed-4774-a09e-50c3f8a58672@www.mengfuneralhome.com
DTSTAMP:20260421T182543Z
DTSTART:20260427T140000Z
DTEND:20260427T160000Z
SUMMARY:Visitation
DESCRIPTION:
URL:https://www.mengfuneralhome.com/obituaries/kelly-wadsworth
LOCATION:Plainville Christian Church 254 Williams Street  Plainville IN 
	47568
GEO:38.805077;-87.151379
END:VEVENT
END:VCALENDAR