BEGIN:VCALENDAR
VERSION:2.0
PRODID:-//Tukios.com/
BEGIN:VEVENT
UID:25ce587f-569b-4138-951d-582ce09931cd@www.mengfuneralhome.com
DTSTAMP:20260421T182441Z
DTSTART:20260427T160000Z
DTEND:20260427T170000Z
SUMMARY:Funeral Service
DESCRIPTION:
URL:https://www.mengfuneralhome.com/obituaries/kelly-wadsworth
LOCATION:Plainville Christian Church 254 Williams Street  Plainville IN 
	47568
GEO:38.805077;-87.151379
END:VEVENT
END:VCALENDAR