BEGIN:VCALENDAR
VERSION:2.0
PRODID:-//Tukios.com/
BEGIN:VEVENT
UID:d24baa2b-d2e1-4895-bf4d-55f09e73097a@www.mengfuneralhome.com
DTSTAMP:20260421T204533Z
DTSTART:20260425T140000Z
DTEND:20260425T160000Z
SUMMARY:Visitation
DESCRIPTION:
URL:https://www.mengfuneralhome.com/obituaries/mary-hart
LOCATION:Meng Family Funeral Home 616 E. Elnora St.  Odon IN 47562
GEO:38.8454752;-86.9784498
END:VEVENT
END:VCALENDAR