BEGIN:VCALENDAR
VERSION:2.0
PRODID:-//Tukios.com/
BEGIN:VEVENT
UID:0ac4578f-efeb-4cb2-a0de-165c4d7adbdf@www.mengfuneralhome.com
DTSTAMP:20260421T205035Z
DTSTART:20260425T160000Z
DTEND:20260425T170000Z
SUMMARY:Funeral Service
DESCRIPTION:
URL:https://www.mengfuneralhome.com/obituaries/mary-hart
LOCATION:Meng Family Funeral Home 616 E. Elnora St.  Odon IN 47562
GEO:38.8454752;-86.9784498
END:VEVENT
END:VCALENDAR